BEGIN:VCALENDAR
VERSION:2.0
PRODID:-//Muzic.Live | Dan be//NONSGML v1.0//EN
X-WR-CALNAME:Muzic.Live | Dan be
NAME:Muzic.Live | Dan be
REFRESH-INTERVAL;VALUE=DURATION:P3H
CALSCALE:GREGORIAN
BEGIN:VEVENT
UID:30834516f2821cde
DTSTAMP:20260422T180000Z
DTSTART:20260422T180000Z
DTEND:20260422T200000Z
SUMMARY:Dan be : Colours
DESCRIPTION:Dan be, Mosimann
LOCATION:Colours\, London\, Royaume-Uni
GEO:51.527471;-0.081725
BEGIN:VALARM
TRIGGER:-P15D
DESCRIPTION:Dan be : Colours
ACTION:DISPLAY
END:VALARM
X-APPLE-CREATOR-IDENTITY:com.apple.calendar
X-APPLE-CREATOR-TEAM-IDENTITY:0000000000
X-MICROSOFT-CDO-APPT-SEQUENCE:0
X-MICROSOFT-CDO-BUSYSTATUS:TENTATIVE
X-MICROSOFT-CDO-IMPORTANCE:1
X-MICROSOFT-CDO-INSTTYPE:0
X-MICROSOFT-CDO-INTENDEDSTATUS:BUSY
X-MICROSOFT-CDO-OWNERAPPTID:1521530853
X-MICROSOFT-DISALLOW-COUNTER:FALSE
END:VEVENT
END:VCALENDAR