BEGIN:VCALENDAR
VERSION:2.0
PRODID:-//Muzic.Live | Klangphonics//NONSGML v1.0//EN
X-WR-CALNAME:Muzic.Live | Klangphonics
NAME:Muzic.Live | Klangphonics
REFRESH-INTERVAL;VALUE=DURATION:P3H
CALSCALE:GREGORIAN
BEGIN:VEVENT
UID:8f63bfd17595efaa
DTSTAMP:20260626T143000Z
DTSTART:20260626T143000Z
DTEND:20260626T173000Z
SUMMARY:Klangphonics : Spoorpark Live
DESCRIPTION:Klangphonics, Oscar and the Wolf, S10
LOCATION:Spoorpark Live\, Tilburg\, Pays-Bas
GEO:51.585618;5.066062
BEGIN:VALARM
TRIGGER:-P15D
DESCRIPTION:Klangphonics : Spoorpark Live
ACTION:DISPLAY
END:VALARM
X-APPLE-CREATOR-IDENTITY:com.apple.calendar
X-APPLE-CREATOR-TEAM-IDENTITY:0000000000
X-MICROSOFT-CDO-APPT-SEQUENCE:0
X-MICROSOFT-CDO-BUSYSTATUS:TENTATIVE
X-MICROSOFT-CDO-IMPORTANCE:1
X-MICROSOFT-CDO-INSTTYPE:0
X-MICROSOFT-CDO-INTENDEDSTATUS:BUSY
X-MICROSOFT-CDO-OWNERAPPTID:1521530853
X-MICROSOFT-DISALLOW-COUNTER:FALSE
END:VEVENT
END:VCALENDAR