BEGIN:VCALENDAR
VERSION:2.0
PRODID:-//Muzic.Live | Pegassi//NONSGML v1.0//EN
X-WR-CALNAME:Muzic.Live | Pegassi
NAME:Muzic.Live | Pegassi
REFRESH-INTERVAL;VALUE=DURATION:P3H
CALSCALE:GREGORIAN
BEGIN:VEVENT
UID:f7e4a8f68cec427f
DTSTAMP:20260726T100000Z
DTSTART:20260726T100000Z
DTEND:20260726T150000Z
SUMMARY:Pegassi : Plages Du Prado
DESCRIPTION:Cerrone, Feder, Franglish, Kungs, Pegassi
LOCATION:Plages Du Prado\, Marseille\, France
GEO:43.264191;5.368732
BEGIN:VALARM
TRIGGER:-P15D
DESCRIPTION:Pegassi : Plages Du Prado
ACTION:DISPLAY
END:VALARM
X-APPLE-CREATOR-IDENTITY:com.apple.calendar
X-APPLE-CREATOR-TEAM-IDENTITY:0000000000
X-MICROSOFT-CDO-APPT-SEQUENCE:0
X-MICROSOFT-CDO-BUSYSTATUS:TENTATIVE
X-MICROSOFT-CDO-IMPORTANCE:1
X-MICROSOFT-CDO-INSTTYPE:0
X-MICROSOFT-CDO-INTENDEDSTATUS:BUSY
X-MICROSOFT-CDO-OWNERAPPTID:1521530853
X-MICROSOFT-DISALLOW-COUNTER:FALSE
END:VEVENT
END:VCALENDAR