BEGIN:VCALENDAR
VERSION:2.0
PRODID:-//Muzic.Live | Two Door Cinema Club//NONSGML v1.0//EN
X-WR-CALNAME:Muzic.Live | Two Door Cinema Club
NAME:Muzic.Live | Two Door Cinema Club
REFRESH-INTERVAL;VALUE=DURATION:P3H
CALSCALE:GREGORIAN
BEGIN:VEVENT
UID:879751514b6d3a3d
DTSTAMP:20260603T203000Z
DTSTART:20260603T203000Z
DTEND:20260603T213000Z
SUMMARY:Two Door Cinema Club : Super Bock Arena - Pavilhão Rosa Mota
DESCRIPTION:Two Door Cinema Club
LOCATION:Super Bock Arena - Pavilhão Rosa Mota\, Porto\, Portugal

BEGIN:VALARM
TRIGGER:-P15D
DESCRIPTION:Two Door Cinema Club : Super Bock Arena - Pavilhão Rosa Mota
ACTION:DISPLAY
END:VALARM
X-APPLE-CREATOR-IDENTITY:com.apple.calendar
X-APPLE-CREATOR-TEAM-IDENTITY:0000000000
X-MICROSOFT-CDO-APPT-SEQUENCE:0
X-MICROSOFT-CDO-BUSYSTATUS:TENTATIVE
X-MICROSOFT-CDO-IMPORTANCE:1
X-MICROSOFT-CDO-INSTTYPE:0
X-MICROSOFT-CDO-INTENDEDSTATUS:BUSY
X-MICROSOFT-CDO-OWNERAPPTID:1521530853
X-MICROSOFT-DISALLOW-COUNTER:FALSE
END:VEVENT
BEGIN:VEVENT
UID:c4203f6533928fe0
DTSTAMP:20260613T140000Z
DTSTART:20260613T140000Z
DTEND:20260613T170000Z
SUMMARY:Two Door Cinema Club : Bonus Parkorman
DESCRIPTION:Chezile, Kasabian, Two Door Cinema Club
LOCATION:Bonus Parkorman\, Istanbul\, Turquie

BEGIN:VALARM
TRIGGER:-P15D
DESCRIPTION:Two Door Cinema Club : Bonus Parkorman
ACTION:DISPLAY
END:VALARM
X-APPLE-CREATOR-IDENTITY:com.apple.calendar
X-APPLE-CREATOR-TEAM-IDENTITY:0000000000
X-MICROSOFT-CDO-APPT-SEQUENCE:0
X-MICROSOFT-CDO-BUSYSTATUS:TENTATIVE
X-MICROSOFT-CDO-IMPORTANCE:1
X-MICROSOFT-CDO-INSTTYPE:0
X-MICROSOFT-CDO-INTENDEDSTATUS:BUSY
X-MICROSOFT-CDO-OWNERAPPTID:1521530853
X-MICROSOFT-DISALLOW-COUNTER:FALSE
END:VEVENT
BEGIN:VEVENT
UID:c8bd003c3e71711c
DTSTAMP:20260626T130000Z
DTSTART:20260626T130000Z
DTEND:20260626T140000Z
SUMMARY:Two Door Cinema Club : Crystal Palace Park
DESCRIPTION:Two Door Cinema Club
LOCATION:Crystal Palace Park\, London\, Royaume-Uni

BEGIN:VALARM
TRIGGER:-P15D
DESCRIPTION:Two Door Cinema Club : Crystal Palace Park
ACTION:DISPLAY
END:VALARM
X-APPLE-CREATOR-IDENTITY:com.apple.calendar
X-APPLE-CREATOR-TEAM-IDENTITY:0000000000
X-MICROSOFT-CDO-APPT-SEQUENCE:0
X-MICROSOFT-CDO-BUSYSTATUS:TENTATIVE
X-MICROSOFT-CDO-IMPORTANCE:1
X-MICROSOFT-CDO-INSTTYPE:0
X-MICROSOFT-CDO-INTENDEDSTATUS:BUSY
X-MICROSOFT-CDO-OWNERAPPTID:1521530853
X-MICROSOFT-DISALLOW-COUNTER:FALSE
END:VEVENT
END:VCALENDAR