BEGIN:VCALENDAR
VERSION:2.0
PRODID:-//Muzic.Live | Dranouter Festival//NONSGML v1.0//EN
X-WR-CALNAME:Muzic.Live | Dranouter Festival
NAME:Muzic.Live | Dranouter Festival
REFRESH-INTERVAL;VALUE=DURATION:P3H
CALSCALE:GREGORIAN
BEGIN:VEVENT
UID:f5c50d4d44112d7a
DTSTAMP:20260807T180000Z
DTSTART:20260807T180000Z
DTEND:20260807T190000Z
SUMMARY:Dranouter Festival : Mentissa
DESCRIPTION:Mentissa
LOCATION:Dranouter Festival\, Dranouter\, Belgique

BEGIN:VALARM
TRIGGER:-P15D
DESCRIPTION:Dranouter Festival : Mentissa
ACTION:DISPLAY
END:VALARM
X-APPLE-CREATOR-IDENTITY:com.apple.calendar
X-APPLE-CREATOR-TEAM-IDENTITY:0000000000
X-MICROSOFT-CDO-APPT-SEQUENCE:0
X-MICROSOFT-CDO-BUSYSTATUS:TENTATIVE
X-MICROSOFT-CDO-IMPORTANCE:1
X-MICROSOFT-CDO-INSTTYPE:0
X-MICROSOFT-CDO-INTENDEDSTATUS:BUSY
X-MICROSOFT-CDO-OWNERAPPTID:1521530853
X-MICROSOFT-DISALLOW-COUNTER:FALSE
END:VEVENT
END:VCALENDAR