BEGIN:VCALENDAR
VERSION:2.0
PRODID:-//Muzic.Live | Tokio Marine Hall//NONSGML v1.0//EN
X-WR-CALNAME:Muzic.Live | Tokio Marine Hall
NAME:Muzic.Live | Tokio Marine Hall
REFRESH-INTERVAL;VALUE=DURATION:P3H
CALSCALE:GREGORIAN
BEGIN:VEVENT
UID:19e6f8f77cbfe9fc
DTSTAMP:20260726T010000Z
DTSTART:20260726T010000Z
DTEND:20260726T020000Z
SUMMARY:Tokio Marine Hall : Eagle-Eye Cherry
DESCRIPTION:Eagle-Eye Cherry
LOCATION:Tokio Marine Hall\, São Paulo\, Brésil

BEGIN:VALARM
TRIGGER:-P15D
DESCRIPTION:Tokio Marine Hall : Eagle-Eye Cherry
ACTION:DISPLAY
END:VALARM
X-APPLE-CREATOR-IDENTITY:com.apple.calendar
X-APPLE-CREATOR-TEAM-IDENTITY:0000000000
X-MICROSOFT-CDO-APPT-SEQUENCE:0
X-MICROSOFT-CDO-BUSYSTATUS:TENTATIVE
X-MICROSOFT-CDO-IMPORTANCE:1
X-MICROSOFT-CDO-INSTTYPE:0
X-MICROSOFT-CDO-INTENDEDSTATUS:BUSY
X-MICROSOFT-CDO-OWNERAPPTID:1521530853
X-MICROSOFT-DISALLOW-COUNTER:FALSE
END:VEVENT
END:VCALENDAR