BEGIN:VCALENDAR
VERSION:2.0
PRODID:-//Muzic.Live | Casino Rama Resort//NONSGML v1.0//EN
X-WR-CALNAME:Muzic.Live | Casino Rama Resort
NAME:Muzic.Live | Casino Rama Resort
REFRESH-INTERVAL;VALUE=DURATION:P3H
CALSCALE:GREGORIAN
BEGIN:VEVENT
UID:0997a3201c60a977
DTSTAMP:20260823T000000Z
DTSTART:20260823T000000Z
DTEND:20260823T010000Z
SUMMARY:Casino Rama Resort : John Fogerty
DESCRIPTION:John Fogerty
LOCATION:Casino Rama Resort\, Rama\, Canada

BEGIN:VALARM
TRIGGER:-P15D
DESCRIPTION:Casino Rama Resort : John Fogerty
ACTION:DISPLAY
END:VALARM
X-APPLE-CREATOR-IDENTITY:com.apple.calendar
X-APPLE-CREATOR-TEAM-IDENTITY:0000000000
X-MICROSOFT-CDO-APPT-SEQUENCE:0
X-MICROSOFT-CDO-BUSYSTATUS:TENTATIVE
X-MICROSOFT-CDO-IMPORTANCE:1
X-MICROSOFT-CDO-INSTTYPE:0
X-MICROSOFT-CDO-INTENDEDSTATUS:BUSY
X-MICROSOFT-CDO-OWNERAPPTID:1521530853
X-MICROSOFT-DISALLOW-COUNTER:FALSE
END:VEVENT
END:VCALENDAR