BEGIN:VCALENDAR
VERSION:2.0
PRODID:-//Muzic.Live | The Theatre At Great Canadian Toronto//NONSGML v1.0//EN
X-WR-CALNAME:Muzic.Live | The Theatre At Great Canadian Toronto
NAME:Muzic.Live | The Theatre At Great Canadian Toronto
REFRESH-INTERVAL;VALUE=DURATION:P3H
CALSCALE:GREGORIAN
BEGIN:VEVENT
UID:0a8708294a92d19c
DTSTAMP:20260822T000000Z
DTSTART:20260822T000000Z
DTEND:20260822T010000Z
SUMMARY:The Theatre At Great Canadian Toronto : John Fogerty
DESCRIPTION:John Fogerty
LOCATION:The Theatre At Great Canadian Toronto\, Toronto\, Canada

BEGIN:VALARM
TRIGGER:-P15D
DESCRIPTION:The Theatre At Great Canadian Toronto : John Fogerty
ACTION:DISPLAY
END:VALARM
X-APPLE-CREATOR-IDENTITY:com.apple.calendar
X-APPLE-CREATOR-TEAM-IDENTITY:0000000000
X-MICROSOFT-CDO-APPT-SEQUENCE:0
X-MICROSOFT-CDO-BUSYSTATUS:TENTATIVE
X-MICROSOFT-CDO-IMPORTANCE:1
X-MICROSOFT-CDO-INSTTYPE:0
X-MICROSOFT-CDO-INTENDEDSTATUS:BUSY
X-MICROSOFT-CDO-OWNERAPPTID:1521530853
X-MICROSOFT-DISALLOW-COUNTER:FALSE
END:VEVENT
END:VCALENDAR