BEGIN:VCALENDAR
VERSION:2.0
PRODID:-//Muzic.Live | Commodore Ballroom//NONSGML v1.0//EN
X-WR-CALNAME:Muzic.Live | Commodore Ballroom
NAME:Muzic.Live | Commodore Ballroom
REFRESH-INTERVAL;VALUE=DURATION:P3H
CALSCALE:GREGORIAN
BEGIN:VEVENT
UID:c9ab3033d85d7f4e
DTSTAMP:20251204T030000Z
DTSTART:20251204T030000Z
DTEND:20251204T040000Z
SUMMARY:Commodore Ballroom : Grandson
DESCRIPTION:Grandson
LOCATION:Commodore Ballroom\, Vancouver\, Canada
GEO:49.280563;-123.120792
BEGIN:VALARM
TRIGGER:-P15D
DESCRIPTION:Commodore Ballroom : Grandson
ACTION:DISPLAY
END:VALARM
X-APPLE-CREATOR-IDENTITY:com.apple.calendar
X-APPLE-CREATOR-TEAM-IDENTITY:0000000000
X-MICROSOFT-CDO-APPT-SEQUENCE:0
X-MICROSOFT-CDO-BUSYSTATUS:TENTATIVE
X-MICROSOFT-CDO-IMPORTANCE:1
X-MICROSOFT-CDO-INSTTYPE:0
X-MICROSOFT-CDO-INTENDEDSTATUS:BUSY
X-MICROSOFT-CDO-OWNERAPPTID:1521530853
X-MICROSOFT-DISALLOW-COUNTER:FALSE
END:VEVENT
BEGIN:VEVENT
UID:ec34c3096d6af7b0
DTSTAMP:20260310T003000Z
DTSTART:20260310T003000Z
DTEND:20260310T043000Z
SUMMARY:Commodore Ballroom : Archers, Catch Your Breath, Doobie, Nothing More
DESCRIPTION:Archers, Catch Your Breath, Doobie, Nothing More
LOCATION:Commodore Ballroom\, Vancouver\, Canada
GEO:49.280563;-123.120792
BEGIN:VALARM
TRIGGER:-P15D
DESCRIPTION:Commodore Ballroom : Archers, Catch Your Breath, Doobie, Nothing More
ACTION:DISPLAY
END:VALARM
X-APPLE-CREATOR-IDENTITY:com.apple.calendar
X-APPLE-CREATOR-TEAM-IDENTITY:0000000000
X-MICROSOFT-CDO-APPT-SEQUENCE:0
X-MICROSOFT-CDO-BUSYSTATUS:TENTATIVE
X-MICROSOFT-CDO-IMPORTANCE:1
X-MICROSOFT-CDO-INSTTYPE:0
X-MICROSOFT-CDO-INTENDEDSTATUS:BUSY
X-MICROSOFT-CDO-OWNERAPPTID:1521530853
X-MICROSOFT-DISALLOW-COUNTER:FALSE
END:VEVENT
BEGIN:VEVENT
UID:afb9c69ba83fc609
DTSTAMP:20260405T020000Z
DTSTART:20260405T020000Z
DTEND:20260405T040000Z
SUMMARY:Commodore Ballroom : Jeff Tweedy, Liam Kazar
DESCRIPTION:Jeff Tweedy, Liam Kazar
LOCATION:Commodore Ballroom\, Vancouver\, Canada
GEO:49.280563;-123.120792
BEGIN:VALARM
TRIGGER:-P15D
DESCRIPTION:Commodore Ballroom : Jeff Tweedy, Liam Kazar
ACTION:DISPLAY
END:VALARM
X-APPLE-CREATOR-IDENTITY:com.apple.calendar
X-APPLE-CREATOR-TEAM-IDENTITY:0000000000
X-MICROSOFT-CDO-APPT-SEQUENCE:0
X-MICROSOFT-CDO-BUSYSTATUS:TENTATIVE
X-MICROSOFT-CDO-IMPORTANCE:1
X-MICROSOFT-CDO-INSTTYPE:0
X-MICROSOFT-CDO-INTENDEDSTATUS:BUSY
X-MICROSOFT-CDO-OWNERAPPTID:1521530853
X-MICROSOFT-DISALLOW-COUNTER:FALSE
END:VEVENT
BEGIN:VEVENT
UID:27938c1d8a82b06f
DTSTAMP:20260705T013000Z
DTSTART:20260705T013000Z
DTEND:20260705T023000Z
SUMMARY:Commodore Ballroom : Wolfmother
DESCRIPTION:Wolfmother
LOCATION:Commodore Ballroom\, Vancouver\, Canada
GEO:49.280563;-123.120792
BEGIN:VALARM
TRIGGER:-P15D
DESCRIPTION:Commodore Ballroom : Wolfmother
ACTION:DISPLAY
END:VALARM
X-APPLE-CREATOR-IDENTITY:com.apple.calendar
X-APPLE-CREATOR-TEAM-IDENTITY:0000000000
X-MICROSOFT-CDO-APPT-SEQUENCE:0
X-MICROSOFT-CDO-BUSYSTATUS:TENTATIVE
X-MICROSOFT-CDO-IMPORTANCE:1
X-MICROSOFT-CDO-INSTTYPE:0
X-MICROSOFT-CDO-INTENDEDSTATUS:BUSY
X-MICROSOFT-CDO-OWNERAPPTID:1521530853
X-MICROSOFT-DISALLOW-COUNTER:FALSE
END:VEVENT
BEGIN:VEVENT
UID:597485b86f0eae97
DTSTAMP:20261018T023000Z
DTSTART:20261018T023000Z
DTEND:20261018T033000Z
SUMMARY:Commodore Ballroom : UB40
DESCRIPTION:UB40
LOCATION:Commodore Ballroom\, Vancouver\, Canada
GEO:49.280563;-123.120792
BEGIN:VALARM
TRIGGER:-P15D
DESCRIPTION:Commodore Ballroom : UB40
ACTION:DISPLAY
END:VALARM
X-APPLE-CREATOR-IDENTITY:com.apple.calendar
X-APPLE-CREATOR-TEAM-IDENTITY:0000000000
X-MICROSOFT-CDO-APPT-SEQUENCE:0
X-MICROSOFT-CDO-BUSYSTATUS:TENTATIVE
X-MICROSOFT-CDO-IMPORTANCE:1
X-MICROSOFT-CDO-INSTTYPE:0
X-MICROSOFT-CDO-INTENDEDSTATUS:BUSY
X-MICROSOFT-CDO-OWNERAPPTID:1521530853
X-MICROSOFT-DISALLOW-COUNTER:FALSE
END:VEVENT
BEGIN:VEVENT
UID:3e27cc8b8138a5c0
DTSTAMP:20261019T023000Z
DTSTART:20261019T023000Z
DTEND:20261019T033000Z
SUMMARY:Commodore Ballroom : UB40
DESCRIPTION:UB40
LOCATION:Commodore Ballroom\, Vancouver\, Canada
GEO:49.280563;-123.120792
BEGIN:VALARM
TRIGGER:-P15D
DESCRIPTION:Commodore Ballroom : UB40
ACTION:DISPLAY
END:VALARM
X-APPLE-CREATOR-IDENTITY:com.apple.calendar
X-APPLE-CREATOR-TEAM-IDENTITY:0000000000
X-MICROSOFT-CDO-APPT-SEQUENCE:0
X-MICROSOFT-CDO-BUSYSTATUS:TENTATIVE
X-MICROSOFT-CDO-IMPORTANCE:1
X-MICROSOFT-CDO-INSTTYPE:0
X-MICROSOFT-CDO-INTENDEDSTATUS:BUSY
X-MICROSOFT-CDO-OWNERAPPTID:1521530853
X-MICROSOFT-DISALLOW-COUNTER:FALSE
END:VEVENT
END:VCALENDAR