BEGIN:VCALENDAR
VERSION:2.0
PRODID:-//Muzic.Live | Zenith//NONSGML v1.0//EN
X-WR-CALNAME:Muzic.Live | Zenith
NAME:Muzic.Live | Zenith
REFRESH-INTERVAL;VALUE=DURATION:P3H
CALSCALE:GREGORIAN
BEGIN:VEVENT
UID:d985a2fcb2f2abae
DTSTAMP:20260502T160000Z
DTSTART:20260502T160000Z
DTEND:20260502T170000Z
SUMMARY:Zenith : Storm Orchestra
DESCRIPTION:Storm Orchestra
LOCATION:Zenith\, Munich\, Allemagne

BEGIN:VALARM
TRIGGER:-P15D
DESCRIPTION:Zenith : Storm Orchestra
ACTION:DISPLAY
END:VALARM
X-APPLE-CREATOR-IDENTITY:com.apple.calendar
X-APPLE-CREATOR-TEAM-IDENTITY:0000000000
X-MICROSOFT-CDO-APPT-SEQUENCE:0
X-MICROSOFT-CDO-BUSYSTATUS:TENTATIVE
X-MICROSOFT-CDO-IMPORTANCE:1
X-MICROSOFT-CDO-INSTTYPE:0
X-MICROSOFT-CDO-INTENDEDSTATUS:BUSY
X-MICROSOFT-CDO-OWNERAPPTID:1521530853
X-MICROSOFT-DISALLOW-COUNTER:FALSE
END:VEVENT
END:VCALENDAR