BEGIN:VCALENDAR
VERSION:2.0
PRODID:-//Muzic.Live | C&#39;Est Par Ici Qu&#39;Ça Se Passe//NONSGML v1.0//EN
X-WR-CALNAME:Muzic.Live | C&#39;Est Par Ici Qu&#39;Ça Se Passe
NAME:Muzic.Live | C&#39;Est Par Ici Qu&#39;Ça Se Passe
REFRESH-INTERVAL;VALUE=DURATION:P3H
CALSCALE:GREGORIAN
BEGIN:VEVENT
UID:7da4538eaf5f299b
DTSTAMP:20260605T163000Z
DTSTART:20260605T163000Z
DTEND:20260605T173000Z
SUMMARY:C&#39;Est Par Ici Qu&#39;Ça Se Passe : Pacôme Rotondo
DESCRIPTION:Pacôme Rotondo
LOCATION:C&amp;#39;Est Par Ici Qu&amp;#39;Ça Se Passe\, La Pointe-Bouchemaine\, France

BEGIN:VALARM
TRIGGER:-P15D
DESCRIPTION:C&#39;Est Par Ici Qu&#39;Ça Se Passe : Pacôme Rotondo
ACTION:DISPLAY
END:VALARM
X-APPLE-CREATOR-IDENTITY:com.apple.calendar
X-APPLE-CREATOR-TEAM-IDENTITY:0000000000
X-MICROSOFT-CDO-APPT-SEQUENCE:0
X-MICROSOFT-CDO-BUSYSTATUS:TENTATIVE
X-MICROSOFT-CDO-IMPORTANCE:1
X-MICROSOFT-CDO-INSTTYPE:0
X-MICROSOFT-CDO-INTENDEDSTATUS:BUSY
X-MICROSOFT-CDO-OWNERAPPTID:1521530853
X-MICROSOFT-DISALLOW-COUNTER:FALSE
END:VEVENT
END:VCALENDAR