BEGIN:VCALENDAR
VERSION:2.0
PRODID:-//Muzic.Live | Site De La Corderie Royale//NONSGML v1.0//EN
X-WR-CALNAME:Muzic.Live | Site De La Corderie Royale
NAME:Muzic.Live | Site De La Corderie Royale
REFRESH-INTERVAL;VALUE=DURATION:P3H
CALSCALE:GREGORIAN
BEGIN:VEVENT
UID:fdc188489b8538ae
DTSTAMP:20260626T173000Z
DTSTART:20260626T173000Z
DTEND:20260626T183000Z
SUMMARY:Site De La Corderie Royale : Mentissa
DESCRIPTION:Mentissa
LOCATION:Site De La Corderie Royale\, Rochefort\, France

BEGIN:VALARM
TRIGGER:-P15D
DESCRIPTION:Site De La Corderie Royale : Mentissa
ACTION:DISPLAY
END:VALARM
X-APPLE-CREATOR-IDENTITY:com.apple.calendar
X-APPLE-CREATOR-TEAM-IDENTITY:0000000000
X-MICROSOFT-CDO-APPT-SEQUENCE:0
X-MICROSOFT-CDO-BUSYSTATUS:TENTATIVE
X-MICROSOFT-CDO-IMPORTANCE:1
X-MICROSOFT-CDO-INSTTYPE:0
X-MICROSOFT-CDO-INTENDEDSTATUS:BUSY
X-MICROSOFT-CDO-OWNERAPPTID:1521530853
X-MICROSOFT-DISALLOW-COUNTER:FALSE
END:VEVENT
END:VCALENDAR