BEGIN:VCALENDAR
VERSION:2.0
PRODID:-//Muzic.Live | Association Entracte//NONSGML v1.0//EN
X-WR-CALNAME:Muzic.Live | Association Entracte
NAME:Muzic.Live | Association Entracte
REFRESH-INTERVAL;VALUE=DURATION:P3H
CALSCALE:GREGORIAN
BEGIN:VEVENT
UID:44bcc3263c1653d3
DTSTAMP:20261002T180000Z
DTSTART:20261002T180000Z
DTEND:20261002T190000Z
SUMMARY:Association Entracte : Ladaniva
DESCRIPTION:Ladaniva
LOCATION:Association Entracte\, Sablé-Sur-Sarthe\, France

BEGIN:VALARM
TRIGGER:-P15D
DESCRIPTION:Association Entracte : Ladaniva
ACTION:DISPLAY
END:VALARM
X-APPLE-CREATOR-IDENTITY:com.apple.calendar
X-APPLE-CREATOR-TEAM-IDENTITY:0000000000
X-MICROSOFT-CDO-APPT-SEQUENCE:0
X-MICROSOFT-CDO-BUSYSTATUS:TENTATIVE
X-MICROSOFT-CDO-IMPORTANCE:1
X-MICROSOFT-CDO-INSTTYPE:0
X-MICROSOFT-CDO-INTENDEDSTATUS:BUSY
X-MICROSOFT-CDO-OWNERAPPTID:1521530853
X-MICROSOFT-DISALLOW-COUNTER:FALSE
END:VEVENT
END:VCALENDAR