BEGIN:VCALENDAR
VERSION:2.0
PRODID:-//Muzic.Live | Festival De Trélazé//NONSGML v1.0//EN
X-WR-CALNAME:Muzic.Live | Festival De Trélazé
NAME:Muzic.Live | Festival De Trélazé
REFRESH-INTERVAL;VALUE=DURATION:P3H
CALSCALE:GREGORIAN
BEGIN:VEVENT
UID:70cd7e45f9d9589a
DTSTAMP:20260702T180000Z
DTSTART:20260702T180000Z
DTEND:20260702T190000Z
SUMMARY:Festival De Trélazé : Mentissa
DESCRIPTION:Mentissa
LOCATION:Festival De Trélazé\, Trélazé\, France

BEGIN:VALARM
TRIGGER:-P15D
DESCRIPTION:Festival De Trélazé : Mentissa
ACTION:DISPLAY
END:VALARM
X-APPLE-CREATOR-IDENTITY:com.apple.calendar
X-APPLE-CREATOR-TEAM-IDENTITY:0000000000
X-MICROSOFT-CDO-APPT-SEQUENCE:0
X-MICROSOFT-CDO-BUSYSTATUS:TENTATIVE
X-MICROSOFT-CDO-IMPORTANCE:1
X-MICROSOFT-CDO-INSTTYPE:0
X-MICROSOFT-CDO-INTENDEDSTATUS:BUSY
X-MICROSOFT-CDO-OWNERAPPTID:1521530853
X-MICROSOFT-DISALLOW-COUNTER:FALSE
END:VEVENT
END:VCALENDAR