BEGIN:VCALENDAR
VERSION:2.0
PRODID:-//Muzic.Live | Cco La Rayonne//NONSGML v1.0//EN
X-WR-CALNAME:Muzic.Live | Cco La Rayonne
NAME:Muzic.Live | Cco La Rayonne
REFRESH-INTERVAL;VALUE=DURATION:P3H
CALSCALE:GREGORIAN
BEGIN:VEVENT
UID:a9972de52f4c8593
DTSTAMP:20261126T190000Z
DTSTART:20261126T190000Z
DTEND:20261126T200000Z
SUMMARY:Cco La Rayonne : Ladaniva
DESCRIPTION:Ladaniva
LOCATION:Cco La Rayonne\, Villeurbanne\, France

BEGIN:VALARM
TRIGGER:-P15D
DESCRIPTION:Cco La Rayonne : Ladaniva
ACTION:DISPLAY
END:VALARM
X-APPLE-CREATOR-IDENTITY:com.apple.calendar
X-APPLE-CREATOR-TEAM-IDENTITY:0000000000
X-MICROSOFT-CDO-APPT-SEQUENCE:0
X-MICROSOFT-CDO-BUSYSTATUS:TENTATIVE
X-MICROSOFT-CDO-IMPORTANCE:1
X-MICROSOFT-CDO-INSTTYPE:0
X-MICROSOFT-CDO-INTENDEDSTATUS:BUSY
X-MICROSOFT-CDO-OWNERAPPTID:1521530853
X-MICROSOFT-DISALLOW-COUNTER:FALSE
END:VEVENT
END:VCALENDAR