BEGIN:VCALENDAR
VERSION:2.0
PRODID:-//Muzic.Live | Bredalsholmen Dokk Og Fartøyvernsenter // Gamlemessa//NONSGML v1.0//EN
X-WR-CALNAME:Muzic.Live | Bredalsholmen Dokk Og Fartøyvernsenter // Gamlemessa
NAME:Muzic.Live | Bredalsholmen Dokk Og Fartøyvernsenter // Gamlemessa
REFRESH-INTERVAL;VALUE=DURATION:P3H
CALSCALE:GREGORIAN
BEGIN:VEVENT
UID:ce218d94f9cc323b
DTSTAMP:20260629T123000Z
DTSTART:20260629T123000Z
DTEND:20260629T133000Z
SUMMARY:Bredalsholmen Dokk Og Fartøyvernsenter // Gamlemessa : Fantastic Negrito
DESCRIPTION:Fantastic Negrito
LOCATION:Bredalsholmen Dokk Og Fartøyvernsenter // Gamlemessa\, Kristiansand\, Norvège

BEGIN:VALARM
TRIGGER:-P15D
DESCRIPTION:Bredalsholmen Dokk Og Fartøyvernsenter // Gamlemessa : Fantastic Negrito
ACTION:DISPLAY
END:VALARM
X-APPLE-CREATOR-IDENTITY:com.apple.calendar
X-APPLE-CREATOR-TEAM-IDENTITY:0000000000
X-MICROSOFT-CDO-APPT-SEQUENCE:0
X-MICROSOFT-CDO-BUSYSTATUS:TENTATIVE
X-MICROSOFT-CDO-IMPORTANCE:1
X-MICROSOFT-CDO-INSTTYPE:0
X-MICROSOFT-CDO-INTENDEDSTATUS:BUSY
X-MICROSOFT-CDO-OWNERAPPTID:1521530853
X-MICROSOFT-DISALLOW-COUNTER:FALSE
END:VEVENT
END:VCALENDAR