BEGIN:VCALENDAR
VERSION:2.0
PRODID:-//Muzic.Live | Lorosae Rising Sun - Beach Club//NONSGML v1.0//EN
X-WR-CALNAME:Muzic.Live | Lorosae Rising Sun - Beach Club
NAME:Muzic.Live | Lorosae Rising Sun - Beach Club
REFRESH-INTERVAL;VALUE=DURATION:P3H
CALSCALE:GREGORIAN
BEGIN:VEVENT
UID:fa9af1ccecdf61c2
DTSTAMP:20260501T180000Z
DTSTART:20260501T180000Z
DTEND:20260501T190000Z
SUMMARY:Lorosae Rising Sun - Beach Club : Feder
DESCRIPTION:Feder
LOCATION:Lorosae Rising Sun - Beach Club\, Costa De Caparica\, Portugal

BEGIN:VALARM
TRIGGER:-P15D
DESCRIPTION:Lorosae Rising Sun - Beach Club : Feder
ACTION:DISPLAY
END:VALARM
X-APPLE-CREATOR-IDENTITY:com.apple.calendar
X-APPLE-CREATOR-TEAM-IDENTITY:0000000000
X-MICROSOFT-CDO-APPT-SEQUENCE:0
X-MICROSOFT-CDO-BUSYSTATUS:TENTATIVE
X-MICROSOFT-CDO-IMPORTANCE:1
X-MICROSOFT-CDO-INSTTYPE:0
X-MICROSOFT-CDO-INTENDEDSTATUS:BUSY
X-MICROSOFT-CDO-OWNERAPPTID:1521530853
X-MICROSOFT-DISALLOW-COUNTER:FALSE
END:VEVENT
END:VCALENDAR