BEGIN:VCALENDAR
VERSION:2.0
PRODID:-//Muzic.Live | Super Bock Arena - Pavilhão Rosa Mota//NONSGML v1.0//EN
X-WR-CALNAME:Muzic.Live | Super Bock Arena - Pavilhão Rosa Mota
NAME:Muzic.Live | Super Bock Arena - Pavilhão Rosa Mota
REFRESH-INTERVAL;VALUE=DURATION:P3H
CALSCALE:GREGORIAN
BEGIN:VEVENT
UID:879751514b6d3a3d
DTSTAMP:20260603T203000Z
DTSTART:20260603T203000Z
DTEND:20260603T213000Z
SUMMARY:Super Bock Arena - Pavilhão Rosa Mota : Two Door Cinema Club
DESCRIPTION:Two Door Cinema Club
LOCATION:Super Bock Arena - Pavilhão Rosa Mota\, Porto\, Portugal

BEGIN:VALARM
TRIGGER:-P15D
DESCRIPTION:Super Bock Arena - Pavilhão Rosa Mota : Two Door Cinema Club
ACTION:DISPLAY
END:VALARM
X-APPLE-CREATOR-IDENTITY:com.apple.calendar
X-APPLE-CREATOR-TEAM-IDENTITY:0000000000
X-MICROSOFT-CDO-APPT-SEQUENCE:0
X-MICROSOFT-CDO-BUSYSTATUS:TENTATIVE
X-MICROSOFT-CDO-IMPORTANCE:1
X-MICROSOFT-CDO-INSTTYPE:0
X-MICROSOFT-CDO-INTENDEDSTATUS:BUSY
X-MICROSOFT-CDO-OWNERAPPTID:1521530853
X-MICROSOFT-DISALLOW-COUNTER:FALSE
END:VEVENT
END:VCALENDAR