BEGIN:VCALENDAR
VERSION:2.0
PRODID:-//Muzic.Live | The Cosmopolitan Of Las Vegas//NONSGML v1.0//EN
X-WR-CALNAME:Muzic.Live | The Cosmopolitan Of Las Vegas
NAME:Muzic.Live | The Cosmopolitan Of Las Vegas
REFRESH-INTERVAL;VALUE=DURATION:P3H
CALSCALE:GREGORIAN
BEGIN:VEVENT
UID:4cdad90e52f14048
DTSTAMP:20260509T030000Z
DTSTART:20260509T030000Z
DTEND:20260509T060000Z
SUMMARY:The Cosmopolitan Of Las Vegas : Absolutely, Amma, RAYE
DESCRIPTION:Absolutely, Amma, RAYE
LOCATION:The Cosmopolitan Of Las Vegas\, Las Vegas\, États-Unis

BEGIN:VALARM
TRIGGER:-P15D
DESCRIPTION:The Cosmopolitan Of Las Vegas : Absolutely, Amma, RAYE
ACTION:DISPLAY
END:VALARM
X-APPLE-CREATOR-IDENTITY:com.apple.calendar
X-APPLE-CREATOR-TEAM-IDENTITY:0000000000
X-MICROSOFT-CDO-APPT-SEQUENCE:0
X-MICROSOFT-CDO-BUSYSTATUS:TENTATIVE
X-MICROSOFT-CDO-IMPORTANCE:1
X-MICROSOFT-CDO-INSTTYPE:0
X-MICROSOFT-CDO-INTENDEDSTATUS:BUSY
X-MICROSOFT-CDO-OWNERAPPTID:1521530853
X-MICROSOFT-DISALLOW-COUNTER:FALSE
END:VEVENT
END:VCALENDAR