BEGIN:VCALENDAR
VERSION:2.0
PRODID:-//Muzic.Live | Tom Lee Park//NONSGML v1.0//EN
X-WR-CALNAME:Muzic.Live | Tom Lee Park
NAME:Muzic.Live | Tom Lee Park
REFRESH-INTERVAL;VALUE=DURATION:P3H
CALSCALE:GREGORIAN
BEGIN:VEVENT
UID:0116648317eda9b2
DTSTAMP:20260504T010000Z
DTSTART:20260504T010000Z
DTEND:20260504T030000Z
SUMMARY:Tom Lee Park : John Butler, John Butler Trio
DESCRIPTION:John Butler, John Butler Trio
LOCATION:Tom Lee Park\, Memphis\, États-Unis

BEGIN:VALARM
TRIGGER:-P15D
DESCRIPTION:Tom Lee Park : John Butler, John Butler Trio
ACTION:DISPLAY
END:VALARM
X-APPLE-CREATOR-IDENTITY:com.apple.calendar
X-APPLE-CREATOR-TEAM-IDENTITY:0000000000
X-MICROSOFT-CDO-APPT-SEQUENCE:0
X-MICROSOFT-CDO-BUSYSTATUS:TENTATIVE
X-MICROSOFT-CDO-IMPORTANCE:1
X-MICROSOFT-CDO-INSTTYPE:0
X-MICROSOFT-CDO-INTENDEDSTATUS:BUSY
X-MICROSOFT-CDO-OWNERAPPTID:1521530853
X-MICROSOFT-DISALLOW-COUNTER:FALSE
END:VEVENT
END:VCALENDAR