BEGIN:VCALENDAR
VERSION:2.0
PRODID:-//Muzic.Live | Dew Drop Inn Hotel &amp; Lounge//NONSGML v1.0//EN
X-WR-CALNAME:Muzic.Live | Dew Drop Inn Hotel &amp; Lounge
NAME:Muzic.Live | Dew Drop Inn Hotel &amp; Lounge
REFRESH-INTERVAL;VALUE=DURATION:P3H
CALSCALE:GREGORIAN
BEGIN:VEVENT
UID:5a3dc49f4843acb7
DTSTAMP:20260503T010000Z
DTSTART:20260503T010000Z
DTEND:20260503T020000Z
SUMMARY:Dew Drop Inn Hotel &amp; Lounge : The Sugarhill Gang
DESCRIPTION:The Sugarhill Gang
LOCATION:Dew Drop Inn Hotel &amp;amp; Lounge\, New Orleans\, États-Unis

BEGIN:VALARM
TRIGGER:-P15D
DESCRIPTION:Dew Drop Inn Hotel &amp; Lounge : The Sugarhill Gang
ACTION:DISPLAY
END:VALARM
X-APPLE-CREATOR-IDENTITY:com.apple.calendar
X-APPLE-CREATOR-TEAM-IDENTITY:0000000000
X-MICROSOFT-CDO-APPT-SEQUENCE:0
X-MICROSOFT-CDO-BUSYSTATUS:TENTATIVE
X-MICROSOFT-CDO-IMPORTANCE:1
X-MICROSOFT-CDO-INSTTYPE:0
X-MICROSOFT-CDO-INTENDEDSTATUS:BUSY
X-MICROSOFT-CDO-OWNERAPPTID:1521530853
X-MICROSOFT-DISALLOW-COUNTER:FALSE
END:VEVENT
END:VCALENDAR