BEGIN:VCALENDAR
VERSION:2.0
PRODID:-//Muzic.Live | The Theater At Bill Graham Civic Auditorium//NONSGML v1.0//EN
X-WR-CALNAME:Muzic.Live | The Theater At Bill Graham Civic Auditorium
NAME:Muzic.Live | The Theater At Bill Graham Civic Auditorium
REFRESH-INTERVAL;VALUE=DURATION:P3H
CALSCALE:GREGORIAN
BEGIN:VEVENT
UID:6759314f511a4d65
DTSTAMP:20260511T020000Z
DTSTART:20260511T020000Z
DTEND:20260511T050000Z
SUMMARY:The Theater At Bill Graham Civic Auditorium : Absolutely, Amma, RAYE
DESCRIPTION:Absolutely, Amma, RAYE
LOCATION:The Theater At Bill Graham Civic Auditorium\, San Francisco\, États-Unis

BEGIN:VALARM
TRIGGER:-P15D
DESCRIPTION:The Theater At Bill Graham Civic Auditorium : Absolutely, Amma, RAYE
ACTION:DISPLAY
END:VALARM
X-APPLE-CREATOR-IDENTITY:com.apple.calendar
X-APPLE-CREATOR-TEAM-IDENTITY:0000000000
X-MICROSOFT-CDO-APPT-SEQUENCE:0
X-MICROSOFT-CDO-BUSYSTATUS:TENTATIVE
X-MICROSOFT-CDO-IMPORTANCE:1
X-MICROSOFT-CDO-INSTTYPE:0
X-MICROSOFT-CDO-INTENDEDSTATUS:BUSY
X-MICROSOFT-CDO-OWNERAPPTID:1521530853
X-MICROSOFT-DISALLOW-COUNTER:FALSE
END:VEVENT
END:VCALENDAR